BEGIN:VCALENDAR
VERSION:2.0
PRODID:-//Southern California Preparedness Foundation - ECPv5.1.0//NONSGML v1.0//EN
CALSCALE:GREGORIAN
METHOD:PUBLISH
X-WR-CALNAME:Southern California Preparedness Foundation
X-ORIGINAL-URL:https://www.socalprep.us
X-WR-CALDESC:Events for Southern California Preparedness Foundation
BEGIN:VTIMEZONE
TZID:America/Los_Angeles
BEGIN:DAYLIGHT
TZOFFSETFROM:-0800
TZOFFSETTO:-0700
TZNAME:PDT
DTSTART:20190310T100000
END:DAYLIGHT
BEGIN:STANDARD
TZOFFSETFROM:-0700
TZOFFSETTO:-0800
TZNAME:PST
DTSTART:20191103T090000
END:STANDARD
END:VTIMEZONE
BEGIN:VEVENT
DTSTART;TZID=America/Los_Angeles:20190401T080000
DTEND;TZID=America/Los_Angeles:20190401T120000
DTSTAMP:20260421T122109
CREATED:20190318T002927Z
LAST-MODIFIED:20190320T225655Z
UID:4792-1554105600-1554120000@www.socalprep.us
SUMMARY:Community Festival & Preparedness Event with 5k Run
DESCRIPTION:Kennedy Cares Festival\nSchool is closed today\, so we’re hosting a Community Festival & Preparedness Event with 5k Run. \nJohn F. Kennedy High School will host the first annual Kennedy Cares Festival on the Kennedy High School campus. The purpose of this event is to provide outreach to the community\, share information regarding the various programs offered at Kennedy HS and provide information regarding schools in and out of the Kennedy Complex. \nOur Challenge LA team will be providing a civic duty and signing up community members to participate in the 2020 Census.  In addition\, our Girls Build LA organization will be leading a voter registration campaign. Most importantly\, we will have an opportunity to share in some fun with our community.  We will have a 5k run for all community members and district staff to participate in\, carnival games\, food trucks\, and prize giveaways. \nLimited parking is available in the school parking lot at the southwest corner of Simmons Ave. and Gothic St. Additional street parking is available. \nEvent flyer here. \n  \n
URL:https://www.socalprep.us/event/community-festival-preparedness-event-with-5k-run/
LOCATION:John F. Kennedy High School (Granada Hills)\, 11254 Gothic Ave.\, Granada Hills\, CA\, 91344
END:VEVENT
END:VCALENDAR