BEGIN:VCALENDAR
VERSION:2.0
PRODID:-//Southern California Preparedness Foundation - ECPv5.1.0//NONSGML v1.0//EN
CALSCALE:GREGORIAN
METHOD:PUBLISH
X-WR-CALNAME:Southern California Preparedness Foundation
X-ORIGINAL-URL:https://www.socalprep.us
X-WR-CALDESC:Events for Southern California Preparedness Foundation
BEGIN:VTIMEZONE
TZID:America/Los_Angeles
BEGIN:DAYLIGHT
TZOFFSETFROM:-0800
TZOFFSETTO:-0700
TZNAME:PDT
DTSTART:20190310T100000
END:DAYLIGHT
BEGIN:STANDARD
TZOFFSETFROM:-0700
TZOFFSETTO:-0800
TZNAME:PST
DTSTART:20191103T090000
END:STANDARD
END:VTIMEZONE
BEGIN:VEVENT
DTSTART;TZID=America/Los_Angeles:20190411T073000
DTEND;TZID=America/Los_Angeles:20190411T153000
DTSTAMP:20260421T103531
CREATED:20190226T044749Z
LAST-MODIFIED:20190307T231851Z
UID:4732-1554967800-1554996600@www.socalprep.us
SUMMARY:PRE Disaster Donation Management Training
DESCRIPTION:See eventbrite to register:\nhttps://www.eventbrite.com/e/pre-disaster-donation-management-preparedness-enhancement-training-tickets-56830933853 \nSchedule: \n\n0730 – 0830. Morning networking\n0830 – 0930. Overview/Mission\n0930 – 1030. VECC VECOM (Volunteer Emergency Command Center\, Volunteer Emergency Communications)\n1045 – 1130. VEPOD (Volunteer Emergency Point-Of-Distribution)\n1130 – 1230. Lunch and Networking\n1230 – 1400 Logistic Depot/Warehouse\n\nFlyer may be downloaded here. \n
URL:https://www.socalprep.us/event/pre-disaster-donation-management-training/
LOCATION:VECC Valley Bureau\, 19040 Vanowen St.\, Reseda\, CA\, 91335
END:VEVENT
END:VCALENDAR