BEGIN:VCALENDAR
VERSION:2.0
PRODID:-//Southern California Preparedness Foundation - ECPv5.1.0//NONSGML v1.0//EN
CALSCALE:GREGORIAN
METHOD:PUBLISH
X-WR-CALNAME:Southern California Preparedness Foundation
X-ORIGINAL-URL:https://www.socalprep.us
X-WR-CALDESC:Events for Southern California Preparedness Foundation
BEGIN:VTIMEZONE
TZID:America/Los_Angeles
BEGIN:DAYLIGHT
TZOFFSETFROM:-0800
TZOFFSETTO:-0700
TZNAME:PDT
DTSTART:20190310T100000
END:DAYLIGHT
BEGIN:STANDARD
TZOFFSETFROM:-0700
TZOFFSETTO:-0800
TZNAME:PST
DTSTART:20191103T090000
END:STANDARD
END:VTIMEZONE
BEGIN:VEVENT
DTSTART;TZID=America/Los_Angeles:20190505T100000
DTEND;TZID=America/Los_Angeles:20190505T150000
DTSTAMP:20260423T100819
CREATED:20190309T030554Z
LAST-MODIFIED:20190414T015717Z
UID:4766-1557050400-1557068400@www.socalprep.us
SUMMARY:Topanga Emergency Fair
DESCRIPTION:Topanga Emergency Fair\n \nVendor and Exhibitor setup begins at 7:00 am.\n\nFair is open to the public from 10:00 am to 4:00 pm.\n\n\nMost Topangans were left in the dark during the Woolsey Fire last November. This fire was a wake-up call for all Topangans to learn alternative ways to prepare for disasters. \nCome to the 2019 Topanga Emergency Fair to learn how to PLUG IN when power is down. \n\n\nWoolsey Fire In Review:\nCome to hear about the factors that influenced the Woolsey Fire and why Topanga was evacuated. Experts will give presentations and show videos throughout the day on the Woolsey Fire\, general fire behavior\, fire hardening\, emergency preparedness\, Helibase 69Bravo\, and will lead discussions on alternative power and communication. \nAt the Emergency Fair You Can: \n\n·    Learn about social media outlets to get verified and current information\nLearn ways to harden your home from fire danger\n·    Meet Fire\, Sheriff\, and CHP emergency responders\n·    Meet local emergency and American Red Cross volunteers\n·    Sign up to be in a Neighborhood Network\n·    Sign up for a ham radio class\n·    Put out a real fire using an extinguisher\n·    Get a copy of the Topanga Survival Guide\n·    Get your 2019 Topanga Resident Access Card\n·    Stock up on emergency supplies\n Enjoy food\, prizes\, and activities for kids and adults\, and much more!\n\n\nVendors and exhibitors may contact Beth Davis\, brd.topanga@gmail.com\, for additional information.\n\n\n\n
URL:https://www.socalprep.us/event/topanga-emergency-fair/
LOCATION:Topanga Community Club\, 1440 N. Topanga Canyon Blvd.\, Topanga\, CA\, 90290
END:VEVENT
END:VCALENDAR