BEGIN:VCALENDAR
VERSION:2.0
PRODID:-//Southern California Preparedness Foundation - ECPv5.1.0//NONSGML v1.0//EN
CALSCALE:GREGORIAN
METHOD:PUBLISH
X-WR-CALNAME:Southern California Preparedness Foundation
X-ORIGINAL-URL:https://www.socalprep.us
X-WR-CALDESC:Events for Southern California Preparedness Foundation
BEGIN:VTIMEZONE
TZID:America/Los_Angeles
BEGIN:DAYLIGHT
TZOFFSETFROM:-0800
TZOFFSETTO:-0700
TZNAME:PDT
DTSTART:20190310T100000
END:DAYLIGHT
BEGIN:STANDARD
TZOFFSETFROM:-0700
TZOFFSETTO:-0800
TZNAME:PST
DTSTART:20191103T090000
END:STANDARD
END:VTIMEZONE
BEGIN:VEVENT
DTSTART;TZID=America/Los_Angeles:20190325T000000
DTEND;TZID=America/Los_Angeles:20190329T233000
DTSTAMP:20260421T153056
CREATED:20190320T225607Z
LAST-MODIFIED:20190320T230709Z
UID:4799-1553472000-1553902200@www.socalprep.us
SUMMARY:Tsunami Preparedness Week
DESCRIPTION:Tsunami Preparedness Week\nMarch 25 through March 29\n \nEveryone\, everywhere should know how to be prepared for tsunamis and what to do to be safe. This is true for people who live or work near the ocean\, but also for anyone who may visit someday. Are you in the Zone? \n  \nTsunamiZone.org provides suggestions and resources for your family or organization to “know your zone” and to learn how to be safe. \n \nHow To Participate \n  \nRegister at TsunamiZone.org/register to be counted with other participants\, be listed on the website (optional)\, be an example to others\, and to get e-mail updates. \n  \nFind public events you can attend at TsunamiZone.org/calendar (if you are an event organizer\, add your own!) \n  \nVisit TsunamiZone.org/howtoparticipate to learn how to be better prepared to survive and recover quickly when a tsunami occurs! \n  \nTsunamiZone.org/resources has planning documents\, posters\, graphics\, and other materials to support your activities. \nClick here for flyer. \nFor more information and to register: TsunamiZone.org \n  \n  \n  \n
URL:https://www.socalprep.us/event/tsunami-preparedness-week/
END:VEVENT
END:VCALENDAR