BEGIN:VCALENDAR
VERSION:2.0
PRODID:-//Southern California Preparedness Foundation - ECPv5.1.0//NONSGML v1.0//EN
CALSCALE:GREGORIAN
METHOD:PUBLISH
X-WR-CALNAME:Southern California Preparedness Foundation
X-ORIGINAL-URL:https://www.socalprep.us
X-WR-CALDESC:Events for Southern California Preparedness Foundation
BEGIN:VTIMEZONE
TZID:America/Los_Angeles
BEGIN:DAYLIGHT
TZOFFSETFROM:-0800
TZOFFSETTO:-0700
TZNAME:PDT
DTSTART:20190310T100000
END:DAYLIGHT
BEGIN:STANDARD
TZOFFSETFROM:-0700
TZOFFSETTO:-0800
TZNAME:PST
DTSTART:20191103T090000
END:STANDARD
END:VTIMEZONE
BEGIN:VEVENT
DTSTART;TZID=America/Los_Angeles:20190314T100000
DTEND;TZID=America/Los_Angeles:20190314T120000
DTSTAMP:20260424T232005
CREATED:20190302T012842Z
LAST-MODIFIED:20190302T012842Z
UID:4750-1552557600-1552564800@www.socalprep.us
SUMMARY:North Valley Emergency Preparedness Safety Road Show
DESCRIPTION: \nThe North Valley Emergency Preparedness Safety Road Show\, hosted by the Valley Interfaith Council (VIC) in partnership with\, Anthem\,  Red Cross\, Climate Resolve\, Family Rescue Center\, and Energy Upgrade California is hosting two free workshops in our community  where you can learn tips on keep you and your family safe when disaster strikes. \nFor more information contact Tammy Reese Williams at (818) 834-6100 or email abd_nutrition@vic-la.org. \n
URL:https://www.socalprep.us/event/north-valley-emergency-preparedness-safety-road-show-2/
LOCATION:St. Stephen Presbyterian Church\, 20121 Devonshire St.\, Chatsworth\, CA\, 91311
END:VEVENT
BEGIN:VEVENT
DTSTART;TZID=America/Los_Angeles:20190314T190000
DTEND;TZID=America/Los_Angeles:20190314T203000
DTSTAMP:20260424T232005
CREATED:20190311T204540Z
LAST-MODIFIED:20190311T204813Z
UID:4772-1552590000-1552595400@www.socalprep.us
SUMMARY:Mt. Washington Neighborhood Disaster Preparedness Meeting
DESCRIPTION:When a natural disaster occurs \n– earthquake\, heavy storm\, strong winds – you and your neighbors become the first responders. \nMt. Washington is building Neighborhood Teams and developing Disaster Response Plans. This meeting will summarize the CERT and MYN programs\, and explain how they can work effectively together. \n\n\n\nWhat are the first steps we should each take in a disaster?\nHow do we communicate with each other when power is out?\nHow do CERT members and others help within the neighborhood?\nWhere do we meet\, and what roles are assigned?\n\n\n\n Meet your neighborhood team leaders and go over the maps of Mt. Washington. Help designate CERT staging areas\, public gathering sites\, and Map Your Neighborhood blocks. Identify hazards\, resources\, and FRS radio channels to monitor during a disaster. \nClick here for flyer. Contact: info@mtwashingtonjessica.org \n  \n
URL:https://www.socalprep.us/event/mt-washington-neighborhood-disaster-preparedness-meeting/
LOCATION:Holy Virgin Mary Coptic Church\, 4900 CleLand Ave.\, Los Angeles\, CA\, 90042
END:VEVENT
END:VCALENDAR