BEGIN:VCALENDAR
VERSION:2.0
PRODID:-//Southern California Preparedness Foundation - ECPv5.1.0//NONSGML v1.0//EN
CALSCALE:GREGORIAN
METHOD:PUBLISH
X-WR-CALNAME:Southern California Preparedness Foundation
X-ORIGINAL-URL:https://www.socalprep.us
X-WR-CALDESC:Events for Southern California Preparedness Foundation
BEGIN:VTIMEZONE
TZID:America/Los_Angeles
BEGIN:DAYLIGHT
TZOFFSETFROM:-0800
TZOFFSETTO:-0700
TZNAME:PDT
DTSTART:20190310T100000
END:DAYLIGHT
BEGIN:STANDARD
TZOFFSETFROM:-0700
TZOFFSETTO:-0800
TZNAME:PST
DTSTART:20191103T090000
END:STANDARD
END:VTIMEZONE
BEGIN:VEVENT
DTSTART;TZID=America/Los_Angeles:20190427T074500
DTEND;TZID=America/Los_Angeles:20190427T090000
DTSTAMP:20260424T215417
CREATED:20190421T015222Z
LAST-MODIFIED:20190422T204824Z
UID:4831-1556351100-1556355600@www.socalprep.us
SUMMARY:Preparedness Drill at Encino Park
DESCRIPTION:Preparedness Drill\nThe Encino Chamber of Commerce and Community Partners would like to invite you to participate in an Emergency Preparedness Drill. You’ll get real-time experience helping our community in a major disaster. \nEveryone will meet at the Encino Chamber office\, 4933 Balboa Blvd.\, at 7:45 am on Saturday\, April 27\, 2019. \nDrill will run from 8:00 am to 9:00 am at Encino Park. \nClick here for flyer. \nFor more information\, please contact the chamber at 818-789-4711\, or email to diana@encinochamber.org. \n  \n
URL:https://www.socalprep.us/event/preparedness-drill-at-encino-park/
LOCATION:Encino Park\, 16953 Ventura Blvd.\, Encino\, CA\, 91316
END:VEVENT
BEGIN:VEVENT
DTSTART;TZID=America/Los_Angeles:20190427T090000
DTEND;TZID=America/Los_Angeles:20190427T160000
DTSTAMP:20260424T215417
CREATED:20190103T003601Z
LAST-MODIFIED:20190316T224115Z
UID:239-1556355600-1556380800@www.socalprep.us
SUMMARY:SOS Survival Products\, Inc.\, annual Parking Lot sale
DESCRIPTION:SOS’s annual Parking Lot sale is earlier this year! The best news is that Let’s Make A Deal is on hiatus\, so they’ll be plenty of parking both days. \nTwo days only. \nAmazing items. Even more amazing prices. \n
URL:https://www.socalprep.us/event/sos-products-inc-annual-parking-lot-sale/
LOCATION:SOS Products\, Inc.\, 15705 Strathern St. #11\, Van Nuys\, CA\, 91406\, United States
END:VEVENT
BEGIN:VEVENT
DTSTART;TZID=America/Los_Angeles:20190427T100000
DTEND;TZID=America/Los_Angeles:20190427T120000
DTSTAMP:20260424T215417
CREATED:20190413T011656Z
LAST-MODIFIED:20190413T011656Z
UID:4809-1556359200-1556366400@www.socalprep.us
SUMMARY:Neighborhood Council Emergency Preparedness Alliance (NCEPA)
DESCRIPTION:Generally meets the 4th Saturday of the month. Location varies. For additional information\, contact the chair\, Len Shaffer\, at commissionerlenshaffer@gmail.com \nEvery NC should be sending one or two representatives. \n10:00 am to 12:00 noon. \n
URL:https://www.socalprep.us/event/neighborhood-council-emergency-preparedness-alliance-ncepa-4/
LOCATION:CA
END:VEVENT
END:VCALENDAR