BEGIN:VCALENDAR
VERSION:2.0
PRODID:-//Southern California Preparedness Foundation - ECPv5.1.0//NONSGML v1.0//EN
CALSCALE:GREGORIAN
METHOD:PUBLISH
X-WR-CALNAME:Southern California Preparedness Foundation
X-ORIGINAL-URL:https://www.socalprep.us
X-WR-CALDESC:Events for Southern California Preparedness Foundation
BEGIN:VTIMEZONE
TZID:America/Los_Angeles
BEGIN:DAYLIGHT
TZOFFSETFROM:-0800
TZOFFSETTO:-0700
TZNAME:PDT
DTSTART:20190310T100000
END:DAYLIGHT
BEGIN:STANDARD
TZOFFSETFROM:-0700
TZOFFSETTO:-0800
TZNAME:PST
DTSTART:20191103T090000
END:STANDARD
END:VTIMEZONE
BEGIN:VEVENT
DTSTART;TZID=America/Los_Angeles:20190608T080000
DTEND;TZID=America/Los_Angeles:20190608T150000
DTSTAMP:20260424T191232
CREATED:20190514T232529Z
LAST-MODIFIED:20190520T184743Z
UID:4879-1559980800-1560006000@www.socalprep.us
SUMMARY:Red Cross Los Angeles Regional Disaster Exercise
DESCRIPTION:The Los Angeles Region Disaster Cycle Services team will be participating in our annual full-scale exercise…and we need your help! \nThis year\, we will be calling disaster volunteers into action in a multi-shelter scenario taking place at LA Trade Tech College on June 8. We will need volunteer actors to play the role of clients. We will also need support staff for registration and to help guide participants through the day. \nIf you are interested in helping\, please register here. \nFor further information\, please contact: \n\n\n\nFrancisca Herrera\, Regional Information and Planning Specialist\, Francisca.Herrera@redcross.org\nCalvin Oglesby\, Regional Exercise and Improvement Planning Lead\, ccaojr5@gmail.com\n\n\n\n
URL:https://www.socalprep.us/event/red-cross-los-angeles-regional-disaster-exercise/
LOCATION:LA Trade Tech College (LATTC)\, 400 W. Washington Blvd.\, Los Angeles\, CA\, 90015
END:VEVENT
BEGIN:VEVENT
DTSTART;TZID=America/Los_Angeles:20190608T090000
DTEND;TZID=America/Los_Angeles:20190608T110000
DTSTAMP:20260424T191232
CREATED:20190514T203415Z
LAST-MODIFIED:20190514T203415Z
UID:4872-1559984400-1559991600@www.socalprep.us
SUMMARY:LBNC Emergency Preparedness Committee Meeting
DESCRIPTION:Meets the second Saturday of the Month. All are welcome. Second floor community conference room at the Van Nuys FlyAway bus terminal. \nVisit the website for agenda\, or contact Linda Pruett\, Co-chair\, at textmgt@att.net. \n
URL:https://www.socalprep.us/event/lbnc-emergency-preparedness-committee-meeting-3/
LOCATION:Van Nuys Flyaway Bus Terminal\, 7610 Woodley Ave.\, Van Nuys\, CA\, 91406\, United States
END:VEVENT
BEGIN:VEVENT
DTSTART;TZID=America/Los_Angeles:20190608T090000
DTEND;TZID=America/Los_Angeles:20190608T130000
DTSTAMP:20260424T191232
CREATED:20190519T175446Z
LAST-MODIFIED:20190519T175739Z
UID:4884-1559984400-1559998800@www.socalprep.us
SUMMARY:Lost Hiker Training Exercise
DESCRIPTION:Lost Hiker Training Exercise \nGenerally conducted the second Saturday of the month at different locations. The exercise is designed to train CERT and other personnel in the techniques of search and rescue in mountainous areas of Los Angeles. We also train with LAFD-ACS which serves as communicators. \nContact Tom Wirth at  ​GriffithParkCERTSAR@gmail.com​. \n
URL:https://www.socalprep.us/event/lost-hiker-training-exercise-2/
LOCATION:Travel Town parking lot (Griffith Park)\, 5200 Zoo Dr.\, Los Angeles\, CA\, 90027
END:VEVENT
END:VCALENDAR