BEGIN:VCALENDAR
VERSION:2.0
PRODID:-//Southern California Preparedness Foundation - ECPv5.1.0//NONSGML v1.0//EN
CALSCALE:GREGORIAN
METHOD:PUBLISH
X-WR-CALNAME:Southern California Preparedness Foundation
X-ORIGINAL-URL:https://www.socalprep.us
X-WR-CALDESC:Events for Southern California Preparedness Foundation
BEGIN:VTIMEZONE
TZID:America/Los_Angeles
BEGIN:DAYLIGHT
TZOFFSETFROM:-0800
TZOFFSETTO:-0700
TZNAME:PDT
DTSTART:20190310T100000
END:DAYLIGHT
BEGIN:STANDARD
TZOFFSETFROM:-0700
TZOFFSETTO:-0800
TZNAME:PST
DTSTART:20191103T090000
END:STANDARD
END:VTIMEZONE
BEGIN:VEVENT
DTSTART;TZID=America/Los_Angeles:20190921T090000
DTEND;TZID=America/Los_Angeles:20190921T173000
DTSTAMP:20260424T152522
CREATED:20190920T205518Z
LAST-MODIFIED:20190920T211513Z
UID:5040-1569056400-1569087000@www.socalprep.us
SUMMARY:Emergency Medical Responder (EMR) course
DESCRIPTION:High Adventure First Aid\nThis first responder course teaches skills necessary to help sustain life\, reduce pain\, and minimize the consequences of injury during out-of-hospital medical and traumatic emergencies–while waiting for or alongside higher-level personnel at the scenes. \nIt is designed for individuals involved in activities which take them beyond the scope of traditional urban emergency medical services\, where help is delayed in urban or rural situations and in mass casualty incidents\, or for individuals working in paid or volunteer positions in a variety of pre-hospital\, industrial\, and first responder settings. \nCourse runs Saturday\, September 21 through November 23\, 2019\n9:00 am to 5:30 pm. \nCost: $105 first time\, $75 refresher/retake \nFor more info\, contact lead instructor Marleen Lugg: 818-882-4526; email: mmhlugg@alumni.pitt.edu. \nFlyer here. \n
URL:https://www.socalprep.us/event/emergency-medical-responder-emr-course/
LOCATION:Verdugo Hills Council\, BSA\, 1325 Grand Ave.\, Glendale\, CA\, 91201
END:VEVENT
END:VCALENDAR