BEGIN:VCALENDAR
VERSION:2.0
PRODID:-//Southern California Preparedness Foundation - ECPv5.1.0//NONSGML v1.0//EN
CALSCALE:GREGORIAN
METHOD:PUBLISH
X-WR-CALNAME:Southern California Preparedness Foundation
X-ORIGINAL-URL:https://www.socalprep.us
X-WR-CALDESC:Events for Southern California Preparedness Foundation
BEGIN:VTIMEZONE
TZID:America/Los_Angeles
BEGIN:DAYLIGHT
TZOFFSETFROM:-0800
TZOFFSETTO:-0700
TZNAME:PDT
DTSTART:20190310T100000
END:DAYLIGHT
BEGIN:STANDARD
TZOFFSETFROM:-0700
TZOFFSETTO:-0800
TZNAME:PST
DTSTART:20191103T090000
END:STANDARD
END:VTIMEZONE
BEGIN:VEVENT
DTSTART;TZID=America/Los_Angeles:20191004T080000
DTEND;TZID=America/Los_Angeles:20191004T180000
DTSTAMP:20260424T132845
CREATED:20190819T053449Z
LAST-MODIFIED:20190829T214407Z
UID:4983-1570176000-1570212000@www.socalprep.us
SUMMARY:Kit Prep for Valley Disaster Preparedness Fair
DESCRIPTION:Help build our EP Kits!\nThose fantastic Family Emergency Preparedness (EP) Starter Kits that are distributed free to the first 2\,000 registered families attending the Fair are prepared by community volunteers and clients of New Horizons  under the guidance of the team from Southern California Preparedness Foundation. \nWe can always use help. If interested\, please contact Bill Hopkins at Bill.Hopkins@SoCalPrep.us. We start on Friday\, October 4\, at 8:00 am and go until we are done (including clean-up). It takes all day\, so perfect for youth and youth groups to come after school to lend a hand (please provide adult supervision for youngsters). \nFlyer can be viewed/download/printed here. \n  \n  \n
URL:https://www.socalprep.us/event/kit-prep-for-valley-disaster-preparedness-fair/
LOCATION:New Horizons\, San Fernando Valley\, 15725 Parthenia St.\, North Hills\, CA\, 91343
END:VEVENT
END:VCALENDAR