BEGIN:VCALENDAR
VERSION:2.0
PRODID:-//Southern California Preparedness Foundation - ECPv5.1.0//NONSGML v1.0//EN
CALSCALE:GREGORIAN
METHOD:PUBLISH
X-WR-CALNAME:Southern California Preparedness Foundation
X-ORIGINAL-URL:https://www.socalprep.us
X-WR-CALDESC:Events for Southern California Preparedness Foundation
BEGIN:VTIMEZONE
TZID:America/Los_Angeles
BEGIN:DAYLIGHT
TZOFFSETFROM:-0800
TZOFFSETTO:-0700
TZNAME:PDT
DTSTART:20190310T100000
END:DAYLIGHT
BEGIN:STANDARD
TZOFFSETFROM:-0700
TZOFFSETTO:-0800
TZNAME:PST
DTSTART:20191103T090000
END:STANDARD
END:VTIMEZONE
BEGIN:VEVENT
DTSTART;TZID=America/Los_Angeles:20191017T100000
DTEND;TZID=America/Los_Angeles:20191017T103000
DTSTAMP:20260424T134734
CREATED:20190922T203554Z
LAST-MODIFIED:20190922T203554Z
UID:5053-1571306400-1571308200@www.socalprep.us
SUMMARY:Great ShakeOut
DESCRIPTION:Great (worldwide) ShakeOut\nOfficially held on 10/17 at 10:17 am\, but you can participate anytime in October (and drill at other times as well). \nVisit shakeout.org for all the details! \nRemember to Drop\, Cover\, and Hold On! \nShakeOut began in California and has also been organized in many other states and countries. Official ShakeOut Regions require significant local or regional coordination\, typically by an emergency management agency or an alliance of many organizations. If you are interested in establishing ShakeOut for your region please contact us. If your state\, province\, or country is not yet participating you can register yourself or your organization as part of the global participation total. \n  \n
URL:https://www.socalprep.us/event/great-shakeout/
END:VEVENT
END:VCALENDAR